BEGIN:VCALENDAR
VERSION:2.0
PRODID:-//hacksw/handcal//NONSGML v1.0//EN
BEGIN:VEVENT
UID:29b46d5118fdfd410a5cc755a66ef9ed
DTSTAMP:20260422T010338Z

DTSTART:20220115T080000
DTEND:20220130T130000
SUMMARY:Inside Flow Online TTC Level 2 & Immersion for gold teachers– with Martasya Yoga (30 hrs, 3 weekends, 30 TRC)
DESCRIPTION:FIND YOUR TRUE SELF! \nJoin our Inside Flow TTC Level 2 via Zoom!!\nThe training takes place on three weekends in January: \n\nSaturday and Sunday January 15–16th, 8 am to 1 pm\nSaturday and Sunday January 22–23rd, 8 am to 1 pm, and\nSaturday and Sunday January 29–30th, 8 am to 1 pm\n\n \nWhat to learn in this LEVEL 2 Training?\n1. Deepening the Concept of Inside Flow Yoga\n2. Understand How to Create a creative Inside Flow Sequence \n3. Understand Vinyasa Looping for Teaching Inside Flow\n4. Understand the Art of Public Speaking and Storytelling\n5. Understand the Ethic of How to Be a Good Inside Flow Teacher \nYou can join from anywhere across the world. \n \nEarly-Bird Price until Dec. 15th: IDR 4,000K\nLater than Dec. 15th: IDR 4,500K \nFor International Students: 350 US-Dollar\nPrice includes Certificate and T-Shirt!! \n \nFor Questions reach out via WhatsApp +62 8170 7117 17 or via mail at martasya.yoga@martasyayoga.com

X-ALT-DESC;FMTTYPE=text/html:<!DOCTYPE HTML PUBLIC "-//W3C//DTD HTML 3.2//EN">\n<HTML>\n<HEAD>\n<META NAME="Generator" CONTENT="MS Exchange Server version 08.00.0681.000">\n<TITLE></TITLE>\n</HEAD>\n<BODY>\n<!-- Converted from text/rtf format -->\n\n<p><span style="font-size: 12pt;"><strong>FIND YOUR TRUE SELF! </strong></span></p><br /><p><span style="font-size: 10pt;">Join our Inside Flow TTC<strong> Level 2 via Zoom!!</strong></span></p><br /><p><span style="font-size: 10pt;">The training takes place on three weekends in January: </span></p><br /><ul><br /><li><span style="font-size: 10pt;">Saturday and Sunday January 15–16th, 8 am to 1 pm</span></li><br /><li><span style="font-size: 10pt;">Saturday and Sunday January 22–23rd, 8 am to 1 pm, and</span></li><br /><li><span style="font-size: 10pt;">Saturday and Sunday January 29–30th, 8 am to 1 pm</span></li><br /></ul><br /><p> </p><br /><p><span style="font-size: 10pt;"><strong>What to learn</strong> in this LEVEL 2 Training?</span></p><br /><p><span style="font-size: 10pt;">1. Deepening the Concept of Inside Flow Yoga</span><br /><span style="font-size: 10pt;">2. Understand How to Create a creative Inside Flow Sequence </span><br /><span style="font-size: 10pt;">3. Understand Vinyasa Looping for Teaching Inside Flow</span><br /><span style="font-size: 10pt;">4. Understand the Art of Public Speaking and Storytelling</span><br /><span style="font-size: 10pt;">5. Understand the Ethic of How to Be a Good Inside Flow Teacher </span></p><br /><p><span style="font-size: 10pt;">You can <strong>join from anywhere across the world</strong>. </span></p><br /><p> </p><br /><p><span style="font-size: 10pt;">Early-Bird <strong>Price</strong> until Dec. 15th: IDR 4,000K</span></p><br /><p><span style="font-size: 10pt;">Later than Dec. 15th: IDR 4,500K </span></p><br /><p><span style="font-size: 10pt;">For <strong>International</strong> Students: 350 US-Dollar</span></p><br /><p><span style="font-size: 10pt;">Price includes Certificate and T-Shirt!! </span></p><br /><p> </p><br /><p><span style="font-size: 10pt;">For Questions reach out via WhatsApp +62 8170 7117 17 or via mail at martasya.yoga@martasyayoga.com</span></p>\n\n</BODY>\n</HTML>

LOCATION:Bali Indonesia
END:VEVENT

END:VCALENDAR
