BEGIN:VCALENDAR
VERSION:2.0
PRODID:-//hacksw/handcal//NONSGML v1.0//EN
BEGIN:VEVENT
UID:7fff77430d1066659ab137c744d2db57
DTSTAMP:20260420T145742Z

DTSTART:20260422T180000
DTEND:20260422T190000
SUMMARY:Weekly Inside Flow Class with Alexandra Schilken - 2026-04-22
DESCRIPTION:Du bewegst dich während einer Inside Flow Stunde die ganze Zeit zum Takt der Musik. Aber nicht nur das - du bewegst dich während der Einheit ununterbrochen.Bei einem Inside Flow gibt es kein Anfang und kein Ende, dein Körper befindet sich ständig in Bewegung und eine Bewegung fließt in die nächste über. Von klassischen Vinyasa Yoga Einheiten sind wir es gewohnt, Asanas für mehrere Atemzüge zu halten. Das wirst du in einer Inside Flow Klasse nicht finden. Du bewegst deinen Körper die ganze Zeit über in Verbindung mit deinem Atem. Die einzelnen Bewegungen sind mit kreativen, fließenden Transitions miteinander verbunden. So wirkt dieser Yogastil fast schon tänzerisch.Kurz und vereinfacht gesagt ist Inside Flow Vinyasa Flow Yoga, das on beat unterrichtet wird. Am Ende ist die Sequenz, die man sich im Laufe der Einheit erarbeitet, perfekt auf einen bestimmten Song abgestimmt. Das macht auch die Musik zu einem ganz wichtigen, zentralen Element im Inside Flow.\n\n

X-ALT-DESC;FMTTYPE=text/html:<!DOCTYPE HTML PUBLIC "-//W3C//DTD HTML 3.2//EN">\n<HTML>\n<HEAD>\n<META NAME="Generator" CONTENT="MS Exchange Server version 08.00.0681.000">\n<TITLE></TITLE>\n</HEAD>\n<BODY>\n<!-- Converted from text/rtf format -->\n\nDu bewegst dich während einer Inside Flow Stunde die ganze Zeit zum Takt der Musik. Aber nicht nur das - du bewegst dich während der Einheit ununterbrochen.Bei einem Inside Flow gibt es kein Anfang und kein Ende, dein Körper befindet sich ständig in Bewegung und eine Bewegung fließt in die nächste über. Von klassischen Vinyasa Yoga Einheiten sind wir es gewohnt, Asanas für mehrere Atemzüge zu halten. Das wirst du in einer Inside Flow Klasse nicht finden. Du bewegst deinen Körper die ganze Zeit über in Verbindung mit deinem Atem. Die einzelnen Bewegungen sind mit kreativen, fließenden Transitions miteinander verbunden. So wirkt dieser Yogastil fast schon tänzerisch.Kurz und vereinfacht gesagt ist Inside Flow Vinyasa Flow Yoga, das on beat unterrichtet wird. Am Ende ist die Sequenz, die man sich im Laufe der Einheit erarbeitet, perfekt auf einen bestimmten Song abgestimmt. Das macht auch die Musik zu einem ganz wichtigen, zentralen Element im Inside Flow.<br /><br />\n\n</BODY>\n</HTML>

LOCATION:Knotternstrasse 2 Staad Sankt Gallen 9422 Switzerland
END:VEVENT

END:VCALENDAR
