BEGIN:VCALENDAR
VERSION:2.0
PRODID:-//hacksw/handcal//NONSGML v1.0//EN
BEGIN:VEVENT
UID:8233ff4c2a15172d8558319c93b9529f
DTSTAMP:20260420T233407Z

DTSTART:20260415T180000
DTEND:20260415T190000
SUMMARY:Weekly Inside Flow with Sherri Meyers (English, OFFLINE) - 2026-04-15
DESCRIPTION:Come flow to the beat. We’ll build the sequence step by step, connecting every move to the rhythm and emotion of the main song.\nEach class is unique and every flow is officially approved by Inside Flow.\n\nWe will learn to continuously move through each posture as we connect to the music utilizing strength, rhythm, and flow. ✨ 

X-ALT-DESC;FMTTYPE=text/html:<!DOCTYPE HTML PUBLIC "-//W3C//DTD HTML 3.2//EN">\n<HTML>\n<HEAD>\n<META NAME="Generator" CONTENT="MS Exchange Server version 08.00.0681.000">\n<TITLE></TITLE>\n</HEAD>\n<BODY>\n<!-- Converted from text/rtf format -->\n\nCome flow to the beat. We’ll build the sequence step by step, connecting every move to the rhythm and emotion of the main song.<br />Each class is unique and every flow is officially approved by Inside Flow.<br /><br />We will learn to continuously move through each posture as we connect to the music utilizing strength, rhythm, and flow. ✨ \n\n</BODY>\n</HTML>

LOCATION:311 Seabreeze Blvd Daytona Beach Florida 32118 United States
END:VEVENT

END:VCALENDAR
