BEGIN:VCALENDAR
VERSION:2.0
PRODID:-//hacksw/handcal//NONSGML v1.0//EN
BEGIN:VEVENT
UID:650079b4b74156e7ee73fa9fab8cffef
DTSTAMP:20260420T101456Z

DTSTART:20260522T100000
DTEND:20260527T160000
SUMMARY:50h Inside Flow European Summit (50 TRC) | Budapest, Hungary | 🇬🇧 English
DESCRIPTION:Flow with the founder of Inside Flow and the best Inside Flow teachers in the world. \n6 days full of Inside Flow, music and emotions – in a new European city: Budapest, Hungary. \n\nAll details on the website. \n

X-ALT-DESC;FMTTYPE=text/html:<!DOCTYPE HTML PUBLIC "-//W3C//DTD HTML 3.2//EN">\n<HTML>\n<HEAD>\n<META NAME="Generator" CONTENT="MS Exchange Server version 08.00.0681.000">\n<TITLE></TITLE>\n</HEAD>\n<BODY>\n<!-- Converted from text/rtf format -->\n\nFlow with the founder of Inside Flow and the best Inside Flow teachers in the world. <br />6 days full of Inside Flow, music and emotions – in a new European city: Budapest, Hungary. <br /><br />All details on the website. <br />\n\n</BODY>\n</HTML>

LOCATION:v30 Belvárosi Sportközpont Vadász utca 30 Budapest 1054 Hungary
END:VEVENT

END:VCALENDAR
