BEGIN:VCALENDAR
VERSION:2.0
PRODID:-//hacksw/handcal//NONSGML v1.0//EN
BEGIN:VEVENT
UID:4bdffa135057dafb5af16f10797e3a7f
DTSTAMP:20260420T200715Z

DTSTART:20250406T164500
DTEND:20250406T174500
SUMMARY:UK 🇬🇧 : Monthly Inside Flow Class - Sundays 4.45pm with Lisa in Hazlemere HP15 7BQ (English)
DESCRIPTION:\nMonthly Sunday 4.45pm Inside Flow class in Hazlemere (Buckinghamshire, UK) with Lisa, starting on 6th April 2025.\nBook here: https://lt-chiropractic-beaconsfield.cliniko.com/bookings?embedded=true#service\nMore info here: www.ltyoga.co.uk\nInstagram updates: Lisa.ltyoga\n \nLisa is also currently teaching weekly Inside Flow classes nearby, in Amersham (HP() on Thursdays at 7.40pm\nBook here: https://www.madarayoga.com

X-ALT-DESC;FMTTYPE=text/html:<!DOCTYPE HTML PUBLIC "-//W3C//DTD HTML 3.2//EN">\n<HTML>\n<HEAD>\n<META NAME="Generator" CONTENT="MS Exchange Server version 08.00.0681.000">\n<TITLE></TITLE>\n</HEAD>\n<BODY>\n<!-- Converted from text/rtf format -->\n\n<p></p><br /><p>Monthly Sunday 4.45pm Inside Flow class in Hazlemere (Buckinghamshire, UK) with Lisa, starting on 6th April 2025.</p><br /><p>Book here: <a href="https://lt-chiropractic-beaconsfield.cliniko.com/bookings?embedded=true#service">https://lt-chiropractic-beaconsfield.cliniko.com/bookings?embedded=true#service</a></p><br /><p>More info here: <a href="http://www.ltyoga.co.uk">www.ltyoga.co.uk</a></p><br /><p>Instagram updates: Lisa.ltyoga</p><br /><p> </p><br /><p>Lisa is also currently teaching weekly Inside Flow classes nearby, in Amersham (HP() on Thursdays at 7.40pm</p><br /><p>Book here: <a href="https://www.madarayoga.com">https://www.madarayoga.com</a></p>\n\n</BODY>\n</HTML>

LOCATION:Cedar Barn Hazlemere England HP15 7BQ United Kingdom
END:VEVENT

END:VCALENDAR
