BEGIN:VCALENDAR
VERSION:2.0
PRODID:-//hacksw/handcal//NONSGML v1.0//EN
BEGIN:VEVENT
UID:083d333fe328983c00ba76b6c154a000
DTSTAMP:20260424T202805Z

DTSTART:20240113T190000
DTEND:20240113T200000
SUMMARY:Monthly Inside Flow Class with Andreana Kyriacou UK
DESCRIPTION:Come and Celebrate the New Year with our first Inside Flow of 2024 with one of the only Inside Flow teachers in the UK.\nWe will move and flow to empowering music with a beautiful sequence to set the tone for 2024.\n 

X-ALT-DESC;FMTTYPE=text/html:<!DOCTYPE HTML PUBLIC "-//W3C//DTD HTML 3.2//EN">\n<HTML>\n<HEAD>\n<META NAME="Generator" CONTENT="MS Exchange Server version 08.00.0681.000">\n<TITLE></TITLE>\n</HEAD>\n<BODY>\n<!-- Converted from text/rtf format -->\n\n<p>Come and Celebrate the New Year with our first Inside Flow of 2024 with one of the only Inside Flow teachers in the UK.</p><br /><p>We will move and flow to empowering music with a beautiful sequence to set the tone for 2024.</p><br /><p> </p>\n\n</BODY>\n</HTML>

LOCATION:66a Lee Lane Horwich Bolton England BL6 7AE United Kingdom
END:VEVENT

END:VCALENDAR
