BEGIN:VCALENDAR
VERSION:2.0
PRODID:-//hacksw/handcal//NONSGML v1.0//EN
BEGIN:VEVENT
UID:65e8a61b5f73e1f30160d9e149b716c9
DTSTAMP:20260420T104916Z

DTSTART:20230610T130000
DTEND:20230625T180000
SUMMARY:HYBRID (Online & Offline) Level 2 & Immersion -  30 TRC Inside Flow Teacher Training with Martasya Yoga 
DESCRIPTION:Welcome to join our Teacher Training Level 2 and Immersion training Inside Flow online via ZOOM and offline for 3 weekends in Martasya Yoga Academy Bogor Indonesia. \nIn the Level 2 we will deepening the understanding of the 3rd Pillar of INSIDE FLOW "FINDING THE MAHAGURU" \nWhat to learn in this Level 2 and immersion training ? \n1) Deepening the teaching methodology of Inside Flow such as communication skills \n2) Deepening the teaching techniques with different build up methods of Vinyasa Flow \n3) Deepening the techniques of Inside Flow creative sequencing with the different themes to touch the heart of participants \n4) Understanding The Art of Story Telling to speak to the heart of the participants \n5) Teaching with your own voice and smartly to rock the class \n \nIn this training we will have 3 Lingual Language : English, Chinese &amp; Indonesian with high standard live streaming technology. \n \nWhat do you need to participate in this training ? \n1) Min. 50 hours Fundamental Training or equivalent training of LEVEL 1 INSIDE FLOW Training \n2) Laptop / Personal computer with WINDOWS 10 or IOS MACBOOK system with min. 8 GB RAM \n3) wireless microphone \n4) sound card or audio mixer \n5) External speaker with audio cable \n6) stable internet connection with min. 15 mbps download &amp; upload \n \nHow to register : whatsapp +62-817-0711-717 or via web www.martasyayoga.com/inside-flow \nHope to see you soon. 

X-ALT-DESC;FMTTYPE=text/html:<!DOCTYPE HTML PUBLIC "-//W3C//DTD HTML 3.2//EN">\n<HTML>\n<HEAD>\n<META NAME="Generator" CONTENT="MS Exchange Server version 08.00.0681.000">\n<TITLE></TITLE>\n</HEAD>\n<BODY>\n<!-- Converted from text/rtf format -->\n\n<p>Welcome to join our Teacher Training Level 2 and Immersion training Inside Flow online via ZOOM and offline for 3 weekends in Martasya Yoga Academy Bogor Indonesia. </p><br /><p>In the Level 2 we will deepening the understanding of the 3rd Pillar of INSIDE FLOW "FINDING THE MAHAGURU" </p><br /><p>What to learn in this Level 2 and immersion training ? </p><br /><p>1) Deepening the teaching methodology of Inside Flow such as communication skills </p><br /><p>2) Deepening the teaching techniques with different build up methods of Vinyasa Flow </p><br /><p>3) Deepening the techniques of Inside Flow creative sequencing with the different themes to touch the heart of participants </p><br /><p>4) Understanding The Art of Story Telling to speak to the heart of the participants </p><br /><p>5) Teaching with your own voice and smartly to rock the class </p><br /><p> </p><br /><p>In this training we will have 3 Lingual Language : English, Chinese &amp; Indonesian with high standard live streaming technology. </p><br /><p> </p><br /><p>What do you need to participate in this training ? </p><br /><p>1) Min. 50 hours Fundamental Training or equivalent training of LEVEL 1 INSIDE FLOW Training </p><br /><p>2) Laptop / Personal computer with WINDOWS 10 or IOS MACBOOK system with min. 8 GB RAM </p><br /><p>3) wireless microphone </p><br /><p>4) sound card or audio mixer </p><br /><p>5) External speaker with audio cable </p><br /><p>6) stable internet connection with min. 15 mbps download &amp; upload </p><br /><p> </p><br /><p>How to register : whatsapp +62-817-0711-717 or via web <a href="http://www.martasyayoga.com/inside">www.martasyayoga.com/inside</a>-flow </p><br /><p>Hope to see you soon. </p>\n\n</BODY>\n</HTML>

LOCATION:Bogor Baru Blok B 6 no. 5 Bogor Jawa Barat (Djawa Barat) 16152 Indonesia
END:VEVENT

END:VCALENDAR
