BEGIN:VCALENDAR
VERSION:2.0
PRODID:-//hacksw/handcal//NONSGML v1.0//EN
BEGIN:VEVENT
UID:951ccc69ba9b42d77d8fd3bb55ccb4b8
DTSTAMP:20260420T073449Z

DTSTART:20230401T130000
DTEND:20230416T180000
SUMMARY:HYBRID (Online & Offline) Basic Level 30 TRC Inside Flow Teacher Training with Martasya Yoga 
DESCRIPTION:After 3 years given this Basic level training , we have seen that Inside Flow teachers have better understanding of creating sequences in the future and moving with into the beat gracefully using the principal of Inside Flow asanas alignments. \nLet's join this 3 weekends training suitable for Asian and European time zone online via Zoom. In this training you will learn six (6) different flows with different music styles and themes like melancholy, powerful, sweet love, sexy , dance , etc. \n 

X-ALT-DESC;FMTTYPE=text/html:<!DOCTYPE HTML PUBLIC "-//W3C//DTD HTML 3.2//EN">\n<HTML>\n<HEAD>\n<META NAME="Generator" CONTENT="MS Exchange Server version 08.00.0681.000">\n<TITLE></TITLE>\n</HEAD>\n<BODY>\n<!-- Converted from text/rtf format -->\n\n<p>After 3 years given this Basic level training , we have seen that Inside Flow teachers have better understanding of creating sequences in the future and moving with into the beat gracefully using the principal of Inside Flow asanas alignments. </p><br /><p>Let's join this 3 weekends training suitable for Asian and European time zone online via Zoom. In this training you will learn six (6) different flows with different music styles and themes like melancholy, powerful, sweet love, sexy , dance , etc. </p><br /><p> </p>\n\n</BODY>\n</HTML>

LOCATION:Bogor Baru Blok B 6 no. 5 Bogor Jawa Barat (Djawa Barat) 16152 Indonesia
END:VEVENT

END:VCALENDAR
