BEGIN:VCALENDAR
VERSION:2.0
PRODID:-//hacksw/handcal//NONSGML v1.0//EN
BEGIN:VEVENT
UID:dc10499e64081090f6e211e181539ced
DTSTAMP:20260420T040140Z

DTSTART:20221204T110000
DTEND:20221204T160000
SUMMARY:Inside Flow Concert [Winter Edition] Livestream from Frankfurt 2022 with Young Ho Kim (Online | 5 TRC)
DESCRIPTION:Inside Flow Concert 2022 – Winter Edition – The Original Since 2008 – "Sound of the Heart" (German: "Klang des Herzens")\n\nOnline Ticket: tintyoga.com/concert\n\nIn-Person Ticket: SOLD OUT!\n\n\n \n Deutsch:\n\nZeit: 11:00 - 16:00 Uhr\nSprache: Deutsch &amp; Englisch (gemischt)\nTRC (Training Credits): 5\n\nDie yogische Kultveranstaltung geht weiter, freu dich auf ein einzigartiges und pulsierendes Erlebnis, einen Tag voller kreativer Inspirationen mit neuen Inside Flows. Jeder Inside Flow ist ein kreatives Vinyasa, das mit seinem Aufbau und seinem Thema auf ein modernes Musikstück abgestimmt ist.\nEine traditionelle Komponente aus dem Yoga, des Vinyasa, erfährt hierdurch eine Fortsetzung der besonderen und modernen Art. Alles ist im Fluss, deine Bewegung, dein Atem, dein Körper, dein Herz – dein Yoga.\nYoung Ho Kim und das Inside Yoga Team werden Dich begeistern und mit neuen Flows zum Schwitzen bringen. LET THE INSIDE FLOW\n \nEnglish:\n\nTime: 11am - 4pm CEST (Frankfurt, Central European Summer Time)\nLanguage: English &amp; German (mixed)\nTRC (Training Credits): 5\n\nThe yogic cult event continues, look forward to a unique and pulsating experience, a day full of creative inspirations with new Inside Flows. Each Inside Flow is a creative vinyasa with its structure and theme based on a modern piece of music.\nA traditional component from yoga, the Vinyasa, gets a continuation of a special and modern kind. Everything is in flow, your movement, your breath, your body, your heart - your yoga.\nYoung Ho Kim and the Inside Yoga Team will inspire you and make you sweat with new flows. LET THE INSIDE FLOW\n \nTickets:\n\nOnline Ticket: tintyoga.com/concert\nIn-Person Ticket: SOLD OUT!\n

X-ALT-DESC;FMTTYPE=text/html:<!DOCTYPE HTML PUBLIC "-//W3C//DTD HTML 3.2//EN">\n<HTML>\n<HEAD>\n<META NAME="Generator" CONTENT="MS Exchange Server version 08.00.0681.000">\n<TITLE></TITLE>\n</HEAD>\n<BODY>\n<!-- Converted from text/rtf format -->\n\n<h3><strong>Inside Flow Concert 2022 – Winter Edition – The Original Since 2008 </strong><strong>– "Sound of the Heart" (German: "Klang des Herzens")</strong></h3><br /><ul><br /><li><strong>Online Ticket: <a href="https://tintyoga.com/concert" target="_blank" rel="noopener noreferrer">tintyoga.com/concert</a></strong></li><br /><li><br /><p><strong>In-Person Ticket: SOLD OUT!</strong></p><br /></li><br /></ul><br /><p> </p><br /><p> <em><strong>Deutsch:</strong></em></p><br /><ul><br /><li>Zeit: 11:00 - 16:00 Uhr</li><br /><li><i>Sprache: Deutsch &amp; Englisch (gemischt)</i></li><br /><li><i>TRC (Training Credits): 5</i></li><br /></ul><br /><p>Die yogische Kultveranstaltung geht weiter, freu dich auf ein einzigartiges und pulsierendes Erlebnis, einen Tag voller kreativer Inspirationen mit neuen Inside Flows. Jeder Inside Flow ist ein kreatives Vinyasa, das mit seinem Aufbau und seinem Thema auf ein modernes Musikstück abgestimmt ist.</p><br /><p>Eine traditionelle Komponente aus dem Yoga, des Vinyasa, erfährt hierdurch eine Fortsetzung der besonderen und modernen Art. Alles ist im Fluss, deine Bewegung, dein Atem, dein Körper, dein Herz – dein Yoga.</p><br /><p>Young Ho Kim und das Inside Yoga Team werden Dich begeistern und mit neuen Flows zum Schwitzen bringen. <strong>LET THE INSIDE FLOW</strong></p><br /><p> </p><br /><p><em><strong>English:</strong></em></p><br /><ul><br /><li><i>Time: 11am - 4pm CEST (Frankfurt, Central European Summer Time)</i></li><br /><li><i>Language: English &amp; German (mixed)</i></li><br /><li><i>TRC (Training Credits): 5</i></li><br /></ul><br /><p>The yogic cult event continues, look forward to a unique and pulsating experience, a day full of creative inspirations with new Inside Flows. Each Inside Flow is a creative vinyasa with its structure and theme based on a modern piece of music.</p><br /><p>A traditional component from yoga, the Vinyasa, gets a continuation of a special and modern kind. Everything is in flow, your movement, your breath, your body, your heart - your yoga.</p><br /><p>Young Ho Kim and the Inside Yoga Team will inspire you and make you sweat with new flows. <strong>LET THE INSIDE FLOW</strong></p><br /><p> </p><br /><p><em><strong>Tickets:</strong></em></p><br /><ul><br /><li><strong>Online Ticket: <a href="https://tintyoga.com/concert" target="_blank" rel="noopener noreferrer">tintyoga.com/concert</a></strong></li><br /><li><strong>In-Person Ticket: SOLD OUT!</strong></li><br /></ul>\n\n</BODY>\n</HTML>

LOCATION:Germany
END:VEVENT

END:VCALENDAR
