BEGIN:VCALENDAR
VERSION:2.0
PRODID:-//hacksw/handcal//NONSGML v1.0//EN
BEGIN:VEVENT
UID:5ec8f2f64c9dec808fddd56e4f7d4182
DTSTAMP:20260420T115016Z

DTSTART:20230523T100000
DTEND:20230528T170000
SUMMARY:SOLD OUT I Inside Flow European Summit (Advanced Inside Flow TT) in Mallorca, Spain (50 TRC)
DESCRIPTION:Flow with the founder of Inside Flow and the best Inside Flow teachers in the world. Each Class is designed to flow with eclectic modern music, with the grand finale of the class being a perfectly sequenced flow to a special song. Based on the yogic philosophy SPANDA - the pulsation of nature - we embody the Spanda with our breath and our movement.\nTHIS TRAINING WILL FOCUS ON:\n \n\n\nCreating harmonious unity between breath and movement to deepen our understanding of yoga asanas.\n\n\nConstructing and articulating strong intelligent sequencing.\n\n\nEstablishing rhythm and pace while teaching.\n\n\nDesigning playlists for an Inside Flow class &amp; connecting the sequence to a deeper intention.\n\n\nLearning functional breathing techniques.\n\n\n\nPlease note that the training will be a total of 50-hours certification, made up of 36 contact hours (in-person lessons) with 14 hours non-contact (assignments, group work and post-training actions etc).  \n​From 10 am to 5 pm. Including lunch from La Lonja Mallorca and water during lunch break.\n10:00 - 12:30pm Training\n12:30 - 02:00pm Lunch Break\n02:00 - 05:00pm Training\n\nExperience the unity of Movement, Breath, Heart and Music!\n\nPrice: €895.00\nAccording to the Levels &amp; Benefits of Inside Flow, all Gold Instructors get 10% off and all Junior Teachers get 20% off. The benefit can be applied to the Advanced TT and the package (Fundamental + Advanced TT). Please visit the following link to access your benefit code: https://insideflow.com/mallorca-summit-benefit

X-ALT-DESC;FMTTYPE=text/html:<!DOCTYPE HTML PUBLIC "-//W3C//DTD HTML 3.2//EN">\n<HTML>\n<HEAD>\n<META NAME="Generator" CONTENT="MS Exchange Server version 08.00.0681.000">\n<TITLE></TITLE>\n</HEAD>\n<BODY>\n<!-- Converted from text/rtf format -->\n\n<p class="font_8">Flow with the founder of Inside Flow and the best Inside Flow teachers in the world. Each Class is designed to flow with eclectic modern music, with the grand finale of the class being a perfectly sequenced flow to a special song. Based on the yogic philosophy SPANDA - the pulsation of nature - we embody the Spanda with our breath and our movement.</p><br /><h3 class="font_3">THIS TRAINING WILL FOCUS ON:<br /> </h3><br /><ul class="font_8"><br /><li><br /><p class="font_8">Creating harmonious unity between breath and movement to deepen our understanding of yoga asanas.</p><br /></li><br /><li><br /><p class="font_8">Constructing and articulating strong intelligent sequencing.</p><br /></li><br /><li><br /><p class="font_8">Establishing rhythm and pace while teaching.</p><br /></li><br /><li><br /><p class="font_8">Designing playlists for an Inside Flow class &amp; connecting the sequence to a deeper intention.</p><br /></li><br /><li><br /><p class="font_8">Learning functional breathing techniques.</p><br /></li><br /></ul><br /><p class="font_8"><br />Please note that the training will be a total of 50-hours certification, made up of 36 contact hours (in-person lessons) with 14 hours non-contact (assignments, group work and post-training actions etc).  </p><br /><p class="font_8"><span class="wixGuard">​</span>From 10 am to 5 pm. Including lunch from La Lonja Mallorca and water during lunch break.</p><br /><p class="font_8">10:00 - 12:30pm Training<br />12:30 - 02:00pm Lunch Break<br />02:00 - 05:00pm Training</p><br /><p class="font_8"><br />Experience the unity of Movement, Breath, Heart and Music!<br /><br />Price: €895.00</p><br /><p class="font_8">According to the Levels &amp; Benefits of Inside Flow, all Gold Instructors get 10% off and all Junior Teachers get 20% off. The benefit can be applied to the Advanced TT and the package (Fundamental + Advanced TT). Please visit the following link to access your benefit code: <span class="color_29"><a href="https://insideflow.com/mallorca-summit-benefit" target="_blank" rel="noopener noreferrer" data-auto-recognition="true">https://insideflow.com/mallorca-summit-benefit</a></span></p>\n\n</BODY>\n</HTML>

LOCATION:Central Studios Mallorca Carrer de s'Escola Graduada 41  Binissalem, Islas Baleares  07350 Spain
END:VEVENT

END:VCALENDAR
